BEGIN:VCALENDAR
VERSION:2.0
PRODID:-//jEvents 2.0 for Joomla//EN
CALSCALE:GREGORIAN
METHOD:PUBLISH
BEGIN:VTIMEZONE
TZID:Europe/Berlin
BEGIN:STANDARD
DTSTART:20250301T080000
RDATE:20250330T030000
TZOFFSETFROM:+0200
TZOFFSETTO:+0100
TZNAME:Europe/Berlin CET
END:STANDARD
BEGIN:STANDARD
DTSTART:20251026T020000
RDATE:20260329T030000
TZOFFSETFROM:+0200
TZOFFSETTO:+0100
TZNAME:Europe/Berlin CET
END:STANDARD
BEGIN:STANDARD
DTSTART:20261025T020000
RDATE:20270328T030000
TZOFFSETFROM:+0200
TZOFFSETTO:+0100
TZNAME:Europe/Berlin CET
END:STANDARD
BEGIN:DAYLIGHT
DTSTART:20250330T030000
RDATE:20251026T020000
TZOFFSETFROM:+0100
TZOFFSETTO:+0200
TZNAME:Europe/Berlin CEST
END:DAYLIGHT
BEGIN:DAYLIGHT
DTSTART:20260329T030000
RDATE:20261025T020000
TZOFFSETFROM:+0100
TZOFFSETTO:+0200
TZNAME:Europe/Berlin CEST
END:DAYLIGHT
END:VTIMEZONE
BEGIN:VEVENT
UID:20260111T184635-2529@5120.start.schulportal.hessen.de
CATEGORIES:Sonstiges
CREATED:20260113T030003
SUMMARY:Sprechstunde zur Berufs- und Studienberatung
LOCATION:Raum 72\, Erweiterungsbau
DESCRIPTION:Frau Feder, Berufsberaterin der Agentur für Arbeit Wiesbaden, bietet Sprech
 zeiten von jeweils 30 Minuten an. Beratungstermine können vorab über Herrn 
 Steffen (Diese E-Mail-Adresse ist vor Spambots geschützt! Zur Anzeige muss 
 JavaScript eingeschaltet sein!
				document.getElementById('cloakecb0fbf657
 70369eaa7cde3d45374085').innerHTML = '';
				var prefix = '&#109;a' + 'i&#1
 08;' + '&#116;o';
				var path = 'hr' + 'ef' + '=';
				var addyecb0fbf6577
 0369eaa7cde3d45374085 = 'st&#101;ff&#101;n' + '&#64;';
				addyecb0fbf65770
 369eaa7cde3d45374085 = addyecb0fbf65770369eaa7cde3d45374085 + 'rh&#101;&#10
 5;ng&#97;&#117;sch&#117;l&#101;' + '&#46;' + 'd&#101;';
				var addy_textec
 b0fbf65770369eaa7cde3d45374085 = 'st&#101;ff&#101;n' + '&#64;' + 'rh&#101;&
 #105;ng&#97;&#117;sch&#117;l&#101;' + '&#46;' + 'd&#101;';document.getEleme
 ntById('cloakecb0fbf65770369eaa7cde3d45374085').innerHTML += '<a ' + path +
  '\'' + prefix + ':' + addyecb0fbf65770369eaa7cde3d45374085 + '\'>'+addy_te
 xtecb0fbf65770369eaa7cde3d45374085+'';
		) angefragt und vereinbart werden.
  Die Sprechstunde findet in Raum 72 im Erweiterungsbau statt.
X-ALT-DESC;FMTTYPE=text/html:Frau Feder, Berufsberaterin der Agentur für Arbeit Wiesbaden, bietet Sprech
 zeiten von jeweils 30 Minuten an. Beratungstermine können vorab über Herrn 
 Steffen (<span id="cloakecb0fbf65770369eaa7cde3d45374085">Diese E-Mail-Adre
 sse ist vor Spambots geschützt! Zur Anzeige muss JavaScript eingeschaltet s
 ein!</span><script type='text/javascript'>
				document.getElementById('clo
 akecb0fbf65770369eaa7cde3d45374085').innerHTML = '';
				var prefix = '&#10
 9;a' + 'i&#108;' + '&#116;o';
				var path = 'hr' + 'ef' + '=';
				var add
 yecb0fbf65770369eaa7cde3d45374085 = 'st&#101;ff&#101;n' + '&#64;';
				addy
 ecb0fbf65770369eaa7cde3d45374085 = addyecb0fbf65770369eaa7cde3d45374085 + '
 rh&#101;&#105;ng&#97;&#117;sch&#117;l&#101;' + '&#46;' + 'd&#101;';
				var
  addy_textecb0fbf65770369eaa7cde3d45374085 = 'st&#101;ff&#101;n' + '&#64;' 
 + 'rh&#101;&#105;ng&#97;&#117;sch&#117;l&#101;' + '&#46;' + 'd&#101;';docum
 ent.getElementById('cloakecb0fbf65770369eaa7cde3d45374085').innerHTML += '<
 a ' + path + '\'' + prefix + ':' + addyecb0fbf65770369eaa7cde3d45374085 + '
 \'>'+addy_textecb0fbf65770369eaa7cde3d45374085+'<\/a>';
		</script>) angefr
 agt und vereinbart werden. Die Sprechstunde findet in Raum 72 im Erweiterun
 gsbau statt.
CONTACT:"Rheingauschule, Geisenheim"
DTSTAMP:20260422T143652
DTSTART;TZID=Europe/Berlin:20260302T080000
DTEND;TZID=Europe/Berlin:20260302T120000
SEQUENCE:0
TRANSP:OPAQUE
END:VEVENT
END:VCALENDAR